Package: sesame Version: 1.26.0 Command: /home/biocbuild/R/R/bin/R CMD check --install=check:sesame.install-out.txt --library=/home/biocbuild/R/R/site-library --no-vignettes --timings sesame_1.26.0.tar.gz StartedAt: 2025-05-06 13:31:34 -0000 (Tue, 06 May 2025) EndedAt: 2025-05-06 13:46:17 -0000 (Tue, 06 May 2025) EllapsedTime: 882.8 seconds RetCode: 0 Status: OK CheckDir: sesame.Rcheck Warnings: 0