Package: seqsetvis Version: 1.26.0 Command: /home/biocbuild/R/R/bin/R CMD build --keep-empty-dirs --no-resave-data seqsetvis StartedAt: 2025-02-11 02:34:01 -0000 (Tue, 11 Feb 2025) EndedAt: 2025-02-11 02:35:41 -0000 (Tue, 11 Feb 2025) EllapsedTime: 100.0 seconds RetCode: 0 Status: OK PackageFile: seqsetvis_1.26.0.tar.gz PackageFileSize: 1.406 MiB