Package: seqcombo Version: 1.28.0 Command: /home/biocbuild/R/R/bin/R CMD check --install=check:seqcombo.install-out.txt --library=/home/biocbuild/R/R/site-library --no-vignettes --timings seqcombo_1.28.0.tar.gz StartedAt: 2025-01-31 10:20:48 -0000 (Fri, 31 Jan 2025) EndedAt: 2025-01-31 10:21:20 -0000 (Fri, 31 Jan 2025) EllapsedTime: 32.0 seconds RetCode: 0 Status: OK CheckDir: seqcombo.Rcheck Warnings: 0