Package: seqcombo Version: 1.28.0 Command: /home/biocbuild/R/R/bin/R CMD build --keep-empty-dirs --no-resave-data seqcombo StartedAt: 2025-01-31 02:40:31 -0000 (Fri, 31 Jan 2025) EndedAt: 2025-01-31 02:40:51 -0000 (Fri, 31 Jan 2025) EllapsedTime: 20.0 seconds RetCode: 0 Status: OK PackageFile: seqcombo_1.28.0.tar.gz PackageFileSize: 683.9 KiB