Package: seqPattern Version: 1.40.0 Command: /home/biocbuild/bbs-3.21-bioc/R/bin/R CMD INSTALL seqPattern StartedAt: 2025-10-12 15:16:39 -0400 (Sun, 12 Oct 2025) EndedAt: 2025-10-12 15:16:50 -0400 (Sun, 12 Oct 2025) EllapsedTime: 11.3 seconds RetCode: 0 Status: OK