Package: seqPattern Version: 1.40.0 Command: /Library/Frameworks/R.framework/Resources/bin/R CMD INSTALL seqPattern StartedAt: 2025-04-28 19:01:51 -0400 (Mon, 28 Apr 2025) EndedAt: 2025-04-28 19:02:16 -0400 (Mon, 28 Apr 2025) EllapsedTime: 24.9 seconds RetCode: 0 Status: OK