############################################################################## ############################################################################## ### ### Running command: ### ### rm -rf seqPattern.buildbin-libdir && mkdir seqPattern.buildbin-libdir && /Users/biocbuild/BBS/utils/build-universal.sh seqPattern_1.40.0.tar.gz /Library/Frameworks/R.framework/Resources/bin/R seqPattern.buildbin-libdir ### ############################################################################## ############################################################################## >>>>>>> >>>>>>> INSTALLATION WITH 'R CMD INSTALL --preclean --no-multiarch --library=seqPattern.buildbin-libdir seqPattern_1.40.0.tar.gz' >>>>>>> * installing *source* package ‘seqPattern’ ... ** this is package ‘seqPattern’ version ‘1.40.0’ ** using staged installation ** R ** data ** inst ** byte-compile and prepare package for lazy loading ** help *** installing help indices ** building package indices ** installing vignettes ** testing if installed package can be loaded from temporary location ** testing if installed package can be loaded from final location ** testing if installed package keeps a record of temporary installation path * DONE (seqPattern) chown: seqPattern.buildbin-libdir/seqPattern/R/seqPattern: Operation not permitted chown: seqPattern.buildbin-libdir/seqPattern/R/seqPattern.rdb: Operation not permitted chown: seqPattern.buildbin-libdir/seqPattern/R/seqPattern.rdx: Operation not permitted chown: seqPattern.buildbin-libdir/seqPattern/R: Operation not permitted chown: seqPattern.buildbin-libdir/seqPattern/unitTests/test_MotifScanningFunctions.R: Operation not permitted chown: seqPattern.buildbin-libdir/seqPattern/unitTests/test_PatternOccurrenceMethods.R: Operation not permitted chown: seqPattern.buildbin-libdir/seqPattern/unitTests/test_MotifScanningMethods.R: Operation not permitted chown: seqPattern.buildbin-libdir/seqPattern/unitTests/test_PatternOccurrenceFunctions.R: Operation not permitted chown: seqPattern.buildbin-libdir/seqPattern/unitTests: Operation not permitted chown: seqPattern.buildbin-libdir/seqPattern/Meta/vignette.rds: Operation not permitted chown: seqPattern.buildbin-libdir/seqPattern/Meta/data.rds: Operation not permitted chown: seqPattern.buildbin-libdir/seqPattern/Meta/links.rds: Operation not permitted chown: seqPattern.buildbin-libdir/seqPattern/Meta/features.rds: Operation not permitted chown: seqPattern.buildbin-libdir/seqPattern/Meta/nsInfo.rds: Operation not permitted chown: seqPattern.buildbin-libdir/seqPattern/Meta/package.rds: Operation not permitted chown: seqPattern.buildbin-libdir/seqPattern/Meta/hsearch.rds: Operation not permitted chown: seqPattern.buildbin-libdir/seqPattern/Meta/Rd.rds: Operation not permitted chown: seqPattern.buildbin-libdir/seqPattern/Meta: Operation not permitted chown: seqPattern.buildbin-libdir/seqPattern/NAMESPACE: Operation not permitted chown: seqPattern.buildbin-libdir/seqPattern/html/R.css: Operation not permitted chown: seqPattern.buildbin-libdir/seqPattern/html/00Index.html: Operation not permitted chown: seqPattern.buildbin-libdir/seqPattern/html: Operation not permitted chown: seqPattern.buildbin-libdir/seqPattern/DESCRIPTION: Operation not permitted chown: seqPattern.buildbin-libdir/seqPattern/NEWS: Operation not permitted chown: seqPattern.buildbin-libdir/seqPattern/INDEX: Operation not permitted chown: seqPattern.buildbin-libdir/seqPattern/doc/index.html: Operation not permitted chown: seqPattern.buildbin-libdir/seqPattern/doc/seqPattern.R: Operation not permitted chown: seqPattern.buildbin-libdir/seqPattern/doc/seqPattern.Rnw: Operation not permitted chown: seqPattern.buildbin-libdir/seqPattern/doc/seqPattern.pdf: Operation not permitted chown: seqPattern.buildbin-libdir/seqPattern/doc: Operation not permitted chown: seqPattern.buildbin-libdir/seqPattern/data/datalist: Operation not permitted chown: seqPattern.buildbin-libdir/seqPattern/data/zebrafishPromoters24h.RData: Operation not permitted chown: seqPattern.buildbin-libdir/seqPattern/data/TBPpwm.RData: Operation not permitted chown: seqPattern.buildbin-libdir/seqPattern/data/zebrafishPromoters.RData: Operation not permitted chown: seqPattern.buildbin-libdir/seqPattern/data: Operation not permitted chown: seqPattern.buildbin-libdir/seqPattern/help/AnIndex: Operation not permitted chown: seqPattern.buildbin-libdir/seqPattern/help/aliases.rds: Operation not permitted chown: seqPattern.buildbin-libdir/seqPattern/help/paths.rds: Operation not permitted chown: seqPattern.buildbin-libdir/seqPattern/help/seqPattern.rdb: Operation not permitted chown: seqPattern.buildbin-libdir/seqPattern/help/seqPattern.rdx: Operation not permitted chown: seqPattern.buildbin-libdir/seqPattern/help: Operation not permitted chown: seqPattern.buildbin-libdir/seqPattern: Operation not permitted