Package: seqPattern Version: 1.40.0 Command: rm -rf seqPattern.buildbin-libdir && mkdir seqPattern.buildbin-libdir && /Users/biocbuild/BBS/utils/build-universal.sh seqPattern_1.40.0.tar.gz /Library/Frameworks/R.framework/Resources/bin/R seqPattern.buildbin-libdir StartedAt: 2025-04-22 01:08:46 -0400 (Tue, 22 Apr 2025) EndedAt: 2025-04-22 01:09:04 -0400 (Tue, 22 Apr 2025) EllapsedTime: 18.5 seconds RetCode: 0 Status: OK PackageFile: seqPattern_1.40.0.tgz PackageFileSize: 3.523 MiB