Package: seqPattern Version: 1.40.0 Command: /Library/Frameworks/R.framework/Resources/bin/R CMD check --install=check:seqPattern.install-out.txt --library=/Library/Frameworks/R.framework/Resources/library --no-vignettes --timings seqPattern_1.40.0.tar.gz StartedAt: 2025-05-17 09:25:18 -0400 (Sat, 17 May 2025) EndedAt: 2025-05-17 09:27:43 -0400 (Sat, 17 May 2025) EllapsedTime: 144.8 seconds RetCode: 0 Status: OK CheckDir: seqPattern.Rcheck Warnings: 0