Package: seqLogo Version: 1.72.0 Command: /home/biocbuild/R/R/bin/R CMD check --install=check:seqLogo.install-out.txt --library=/home/biocbuild/R/R/site-library --no-vignettes --timings seqLogo_1.72.0.tar.gz StartedAt: 2025-01-31 10:21:20 -0000 (Fri, 31 Jan 2025) EndedAt: 2025-01-31 10:21:42 -0000 (Fri, 31 Jan 2025) EllapsedTime: 22.0 seconds RetCode: 0 Status: OK CheckDir: seqLogo.Rcheck Warnings: 0