Back to Multiple platform build/check report for BioC 3.22:   simplified   long
ABCDEFGHIJKLMNOPQR[S]TUVWXYZ

This page was generated on 2025-11-06 12:00 -0500 (Thu, 06 Nov 2025).

HostnameOSArch (*)R versionInstalled pkgs
nebbiolo2Linux (Ubuntu 24.04.3 LTS)x86_644.5.1 Patched (2025-08-23 r88802) -- "Great Square Root" 4902
kjohnson3macOS 13.7.7 Venturaarm644.5.1 Patched (2025-09-10 r88807) -- "Great Square Root" 4638
Click on any hostname to see more info about the system (e.g. compilers)      (*) as reported by 'uname -p', except on Windows and Mac OS X

All results for package seqLogo


To the developers/maintainers of the seqLogo package:
- Allow up to 24 hours (and sometimes 48 hours) for your latest push to git@git.bioconductor.org:packages/seqLogo.git to reflect on this report. See Troubleshooting Build Report for more information.
- Use the following Renviron settings to reproduce errors and warnings.
- If 'R CMD check' started to fail recently on the Linux builder(s) over a missing dependency, add the missing dependency to 'Suggests:' in your DESCRIPTION file. See Renviron.bioc for more information.

raw results

Package 1985/2361HostnameOS / ArchINSTALLBUILDCHECKBUILD BIN
seqLogo 1.76.0  (landing page)
Robert Ivanek
Snapshot Date: 2025-11-05 13:45 -0500 (Wed, 05 Nov 2025)
git_url: https://git.bioconductor.org/packages/seqLogo
git_branch: RELEASE_3_22
git_last_commit: 5d40dcb
git_last_commit_date: 2025-10-29 09:59:01 -0500 (Wed, 29 Oct 2025)
nebbiolo2Linux (Ubuntu 24.04.3 LTS) / x86_64  OK    OK    OK  UNNEEDED, same version is already published
kjohnson3macOS 13.7.7 Ventura / arm64  OK    OK    OK    OK  UNNEEDED, same version is already published



Results for Bioconductor software packages that depend directly on package seqLogo

QUICK STATSOS / ArchINSTALLBUILDCHECKBUILD BIN
nebbiolo2Linux (Ubuntu 24.04.3 LTS) / x86_64
018
018
0008
kjohnson3macOS 13.7.7 Ventura / arm64
009
018
0017
008
Package 1/9HostnameOS / ArchINSTALLBUILDCHECKBUILD BIN
IntEREst 1.34.0  (landing page)
Ali Oghabian
git_last_commit: 8a4b0c3
git_last_commit_date: 2025-10-29 10:37:18 -0500
nebbiolo2Linux (Ubuntu 24.04.3 LTS) / x86_64  OK    OK    OK  UNNEEDED, same version is already published
kjohnson3macOS 13.7.7 Ventura / arm64  OK    OK    OK    OK  UNNEEDED, same version is already published
Package 2/9HostnameOS / ArchINSTALLBUILDCHECKBUILD BIN
PWMEnrich 4.46.0  (landing page)
Diego Diez
git_last_commit: f38bb65
git_last_commit_date: 2025-10-29 10:11:23 -0500
nebbiolo2Linux (Ubuntu 24.04.3 LTS) / x86_64  OK    OK    OK  UNNEEDED, same version is already published
kjohnson3macOS 13.7.7 Ventura / arm64  OK    OK    OK    OK  UNNEEDED, same version is already published
Package 3/9HostnameOS / ArchINSTALLBUILDCHECKBUILD BIN
RCAS 1.36.0  (landing page)
Bora Uyar
git_last_commit: 780ed18
git_last_commit_date: 2025-10-29 10:33:22 -0500
nebbiolo2Linux (Ubuntu 24.04.3 LTS) / x86_64  OK    OK    OK  UNNEEDED, same version is already published
kjohnson3macOS 13.7.7 Ventura / arm64  OK    OK    OK    OK  UNNEEDED, same version is already published
Package 4/9HostnameOS / ArchINSTALLBUILDCHECKBUILD BIN
rGADEM 2.58.0  (landing page)
Arnaud Droit
git_last_commit: 32b26c2
git_last_commit_date: 2025-10-29 10:04:22 -0500
nebbiolo2Linux (Ubuntu 24.04.3 LTS) / x86_64  ERROR    ERROR  skipped
kjohnson3macOS 13.7.7 Ventura / arm64  OK    OK    WARNINGS    OK  UNNEEDED, same version is already published
Package 5/9HostnameOS / ArchINSTALLBUILDCHECKBUILD BIN
riboSeqR 1.44.0  (landing page)
Samuel Granjeaud
git_last_commit: d196728
git_last_commit_date: 2025-10-29 10:20:05 -0500
nebbiolo2Linux (Ubuntu 24.04.3 LTS) / x86_64  OK    OK    OK  UNNEEDED, same version is already published
kjohnson3macOS 13.7.7 Ventura / arm64  OK    OK    OK    OK  UNNEEDED, same version is already published
Package 6/9HostnameOS / ArchINSTALLBUILDCHECKBUILD BIN
scanMiR 1.16.0  (landing page)
Pierre-Luc Germain
git_last_commit: fa9b00a
git_last_commit_date: 2025-10-29 11:10:43 -0500
nebbiolo2Linux (Ubuntu 24.04.3 LTS) / x86_64  OK    OK    OK  UNNEEDED, same version is already published
kjohnson3macOS 13.7.7 Ventura / arm64  OK    OK    OK    OK  UNNEEDED, same version is already published
Package 7/9HostnameOS / ArchINSTALLBUILDCHECKBUILD BIN
SPLINTER 1.36.0  (landing page)
Diana Low
git_last_commit: 00c62ac
git_last_commit_date: 2025-10-29 10:34:37 -0500
nebbiolo2Linux (Ubuntu 24.04.3 LTS) / x86_64  OK    OK    OK  UNNEEDED, same version is already published
kjohnson3macOS 13.7.7 Ventura / arm64  OK    ERROR  skippedskipped
Package 8/9HostnameOS / ArchINSTALLBUILDCHECKBUILD BIN
TENET 1.2.0  (landing page)
Rhie Lab at the University of Southern California
git_last_commit: b0a4fcf
git_last_commit_date: 2025-10-29 11:34:59 -0500
nebbiolo2Linux (Ubuntu 24.04.3 LTS) / x86_64  OK    OK    OK  UNNEEDED, same version is already published
kjohnson3macOS 13.7.7 Ventura / arm64  OK    OK    OK    OK  UNNEEDED, same version is already published
Package 9/9HostnameOS / ArchINSTALLBUILDCHECKBUILD BIN
TFBSTools 1.48.0  (landing page)
Ge Tan
git_last_commit: 77e9a0e
git_last_commit_date: 2025-10-29 10:16:59 -0500
nebbiolo2Linux (Ubuntu 24.04.3 LTS) / x86_64  OK    OK    OK  UNNEEDED, same version is already published
kjohnson3macOS 13.7.7 Ventura / arm64  OK    OK    OK    OK  UNNEEDED, same version is already published