Package: seqCAT Version: 1.28.0 Command: /home/biocbuild/R/R/bin/R CMD INSTALL seqCAT StartedAt: 2025-01-30 21:01:05 -0000 (Thu, 30 Jan 2025) EndedAt: 2025-01-30 21:01:50 -0000 (Thu, 30 Jan 2025) EllapsedTime: 44.6 seconds RetCode: 0 Status: OK