Package: seqCAT Version: 1.28.0 Command: F:\biocbuild\bbs-3.20-bioc\R\bin\R.exe CMD INSTALL seqCAT StartedAt: 2025-01-30 16:48:23 -0500 (Thu, 30 Jan 2025) EndedAt: 2025-01-30 16:49:17 -0500 (Thu, 30 Jan 2025) EllapsedTime: 53.9 seconds RetCode: 0 Status: OK