Package: seqCAT Version: 1.30.0 Command: chmod a+r seqCAT -R && E:\biocbuild\bbs-3.21-bioc\R\bin\R.exe CMD build --keep-empty-dirs --no-resave-data seqCAT StartedAt: 2025-08-14 22:11:09 -0400 (Thu, 14 Aug 2025) EndedAt: 2025-08-14 22:13:18 -0400 (Thu, 14 Aug 2025) EllapsedTime: 129.8 seconds RetCode: 0 Status: OK PackageFile: seqCAT_1.30.0.tar.gz PackageFileSize: 1.808 MiB