Package: seqCAT Version: 1.30.0 Command: /home/biocbuild/R/R/bin/R CMD INSTALL seqCAT StartedAt: 2025-04-21 20:56:48 -0000 (Mon, 21 Apr 2025) EndedAt: 2025-04-21 20:57:41 -0000 (Mon, 21 Apr 2025) EllapsedTime: 53.6 seconds RetCode: 0 Status: OK