Package: seqCAT Version: 1.28.0 Command: /Library/Frameworks/R.framework/Resources/bin/R CMD INSTALL seqCAT StartedAt: 2025-01-30 18:00:21 -0500 (Thu, 30 Jan 2025) EndedAt: 2025-01-30 18:01:05 -0500 (Thu, 30 Jan 2025) EllapsedTime: 44.4 seconds RetCode: 0 Status: OK