Package: seqCAT Version: 1.28.0 Command: /Library/Frameworks/R.framework/Resources/bin/R CMD build --keep-empty-dirs --no-resave-data seqCAT StartedAt: 2025-01-31 07:53:34 -0500 (Fri, 31 Jan 2025) EndedAt: 2025-01-31 07:55:22 -0500 (Fri, 31 Jan 2025) EllapsedTime: 108.4 seconds RetCode: 0 Status: OK PackageFile: seqCAT_1.28.0.tar.gz PackageFileSize: 1.895 MiB