Package: seqCAT Version: 1.28.0 Command: rm -rf seqCAT.buildbin-libdir && mkdir seqCAT.buildbin-libdir && /Users/biocbuild/BBS/utils/build-universal.sh seqCAT_1.28.0.tar.gz /Library/Frameworks/R.framework/Resources/bin/R seqCAT.buildbin-libdir StartedAt: 2025-02-01 16:52:19 -0500 (Sat, 01 Feb 2025) EndedAt: 2025-02-01 16:53:08 -0500 (Sat, 01 Feb 2025) EllapsedTime: 49.4 seconds RetCode: 0 Status: OK PackageFile: seqCAT_1.28.0.tgz PackageFileSize: 1.959 MiB