Package: seqArchRplus Version: 1.6.0 Command: /home/biocbuild/R/R/bin/R CMD check --install=check:seqArchRplus.install-out.txt --library=/home/biocbuild/R/R/site-library --no-vignettes --timings seqArchRplus_1.6.0.tar.gz StartedAt: 2025-01-31 10:20:23 -0000 (Fri, 31 Jan 2025) EndedAt: 2025-01-31 10:26:02 -0000 (Fri, 31 Jan 2025) EllapsedTime: 339.4 seconds RetCode: 0 Status: WARNINGS CheckDir: seqArchRplus.Rcheck Warnings: 1