Package: seqArchRplus Version: 1.8.0 Command: /Library/Frameworks/R.framework/Resources/bin/R CMD check --install=check:seqArchRplus.install-out.txt --library=/Library/Frameworks/R.framework/Resources/library --no-vignettes --timings seqArchRplus_1.8.0.tar.gz StartedAt: 2025-05-16 09:48:47 -0400 (Fri, 16 May 2025) EndedAt: 2025-05-16 09:58:57 -0400 (Fri, 16 May 2025) EllapsedTime: 609.9 seconds RetCode: 0 Status: WARNINGS CheckDir: seqArchRplus.Rcheck Warnings: 1