Package: seqArchRplus Version: 1.8.0 Command: rm -rf seqArchRplus.buildbin-libdir && mkdir seqArchRplus.buildbin-libdir && /Users/biocbuild/BBS/utils/build-universal.sh seqArchRplus_1.8.0.tar.gz /Library/Frameworks/R.framework/Resources/bin/R seqArchRplus.buildbin-libdir StartedAt: 2025-05-16 13:46:21 -0400 (Fri, 16 May 2025) EndedAt: 2025-05-16 13:47:45 -0400 (Fri, 16 May 2025) EllapsedTime: 83.4 seconds RetCode: 0 Status: OK PackageFile: seqArchRplus_1.8.0.tgz PackageFileSize: 3.804 MiB