Package: seqArchRplus Version: 1.8.0 Command: /home/biocbuild/R/R/bin/R CMD build --keep-empty-dirs --no-resave-data seqArchRplus StartedAt: 2025-05-16 04:12:51 -0000 (Fri, 16 May 2025) EndedAt: 2025-05-16 04:16:44 -0000 (Fri, 16 May 2025) EllapsedTime: 232.2 seconds RetCode: 0 Status: OK PackageFile: seqArchRplus_1.8.0.tar.gz PackageFileSize: 2.733 MiB