Package: seqArchRplus Version: 1.8.0 Command: rm -rf seqArchRplus.buildbin-libdir && mkdir seqArchRplus.buildbin-libdir && /Users/biocbuild/BBS/utils/build-universal.sh seqArchRplus_1.8.0.tar.gz /Library/Frameworks/R.framework/Resources/bin/R seqArchRplus.buildbin-libdir StartedAt: 2025-04-21 22:52:12 -0400 (Mon, 21 Apr 2025) EndedAt: 2025-04-21 22:52:23 -0400 (Mon, 21 Apr 2025) EllapsedTime: 10.3 seconds RetCode: 0 Status: OK PackageFile: seqArchRplus_1.8.0.tgz PackageFileSize: 3.806 MiB