Package: seqArchRplus Version: 1.8.0 Command: /Library/Frameworks/R.framework/Resources/bin/R CMD check --install=check:seqArchRplus.install-out.txt --library=/Library/Frameworks/R.framework/Resources/library --no-vignettes --timings seqArchRplus_1.8.0.tar.gz StartedAt: 2025-05-21 09:12:32 -0400 (Wed, 21 May 2025) EndedAt: 2025-05-21 09:18:40 -0400 (Wed, 21 May 2025) EllapsedTime: 367.9 seconds RetCode: 0 Status: WARNINGS CheckDir: seqArchRplus.Rcheck Warnings: 1