Package: seqArchRplus Version: 1.8.0 Command: /Library/Frameworks/R.framework/Resources/bin/R CMD build --keep-empty-dirs --no-resave-data seqArchRplus StartedAt: 2025-05-20 08:17:04 -0400 (Tue, 20 May 2025) EndedAt: 2025-05-20 08:20:20 -0400 (Tue, 20 May 2025) EllapsedTime: 196.4 seconds RetCode: 0 Status: OK PackageFile: seqArchRplus_1.8.0.tar.gz PackageFileSize: 3.7 MiB