Package: seq2pathway Version: 1.38.0 Command: /home/biocbuild/R/R/bin/R CMD check --install=check:seq2pathway.install-out.txt --library=/home/biocbuild/R/R/site-library --no-vignettes --timings seq2pathway_1.38.0.tar.gz StartedAt: 2025-01-31 10:20:17 -0000 (Fri, 31 Jan 2025) EndedAt: 2025-01-31 10:24:42 -0000 (Fri, 31 Jan 2025) EllapsedTime: 265.3 seconds RetCode: 0 Status: WARNINGS CheckDir: seq2pathway.Rcheck Warnings: 2