Package: seq.hotSPOT Version: 1.8.0 Command: E:\biocbuild\bbs-3.21-bioc\R\bin\R.exe CMD INSTALL seq.hotSPOT StartedAt: 2025-08-14 15:21:31 -0400 (Thu, 14 Aug 2025) EndedAt: 2025-08-14 15:21:45 -0400 (Thu, 14 Aug 2025) EllapsedTime: 13.1 seconds RetCode: 0 Status: OK