Package: seq.hotSPOT Version: 1.8.0 Command: /home/biocbuild/bbs-3.21-bioc/R/bin/R CMD build --keep-empty-dirs --no-resave-data seq.hotSPOT StartedAt: 2025-10-08 19:50:06 -0400 (Wed, 08 Oct 2025) EndedAt: 2025-10-08 19:50:14 -0400 (Wed, 08 Oct 2025) EllapsedTime: 8.0 seconds RetCode: 0 Status: OK PackageFile: seq.hotSPOT_1.8.0.tar.gz PackageFileSize: 1.401 MiB