Package: seq.hotSPOT Version: 1.8.0 Command: /home/biocbuild/R/R/bin/R CMD INSTALL seq.hotSPOT StartedAt: 2025-05-12 20:13:53 -0000 (Mon, 12 May 2025) EndedAt: 2025-05-12 20:14:13 -0000 (Mon, 12 May 2025) EllapsedTime: 20.3 seconds RetCode: 0 Status: OK