Package: semisup Version: 1.32.0 Command: rm -rf semisup.buildbin-libdir && mkdir semisup.buildbin-libdir && /Users/biocbuild/BBS/utils/build-universal.sh semisup_1.32.0.tar.gz /Library/Frameworks/R.framework/Resources/bin/R semisup.buildbin-libdir StartedAt: 2025-04-21 22:52:08 -0400 (Mon, 21 Apr 2025) EndedAt: 2025-04-21 22:52:10 -0400 (Mon, 21 Apr 2025) EllapsedTime: 2.0 seconds RetCode: 0 Status: OK PackageFile: semisup_1.32.0.tgz PackageFileSize: 377.1 KiB