Package: selectKSigs Version: 1.20.0 Command: /Library/Frameworks/R.framework/Resources/bin/R CMD build --keep-empty-dirs --no-resave-data selectKSigs StartedAt: 2025-05-16 08:22:15 -0400 (Fri, 16 May 2025) EndedAt: 2025-05-16 08:24:00 -0400 (Fri, 16 May 2025) EllapsedTime: 104.5 seconds RetCode: 0 Status: OK PackageFile: selectKSigs_1.20.0.tar.gz PackageFileSize: 406.7 KiB