Package: segmenter Version: 1.14.0 Command: /home/biocbuild/bbs-3.21-bioc/R/bin/R CMD INSTALL segmenter StartedAt: 2025-10-01 16:02:05 -0400 (Wed, 01 Oct 2025) EndedAt: 2025-10-01 16:02:49 -0400 (Wed, 01 Oct 2025) EllapsedTime: 43.6 seconds RetCode: 0 Status: OK