Package: segmenter Version: 1.14.0 Command: /home/biocbuild/bbs-3.21-bioc/R/bin/R CMD build --keep-empty-dirs --no-resave-data segmenter StartedAt: 2025-10-01 19:55:03 -0400 (Wed, 01 Oct 2025) EndedAt: 2025-10-01 20:02:12 -0400 (Wed, 01 Oct 2025) EllapsedTime: 428.5 seconds RetCode: 0 Status: OK PackageFile: segmenter_1.14.0.tar.gz PackageFileSize: 3.983 MiB