Package: segmenter Version: 1.14.0 Command: /Library/Frameworks/R.framework/Resources/bin/R CMD INSTALL segmenter StartedAt: 2025-07-21 18:29:18 -0400 (Mon, 21 Jul 2025) EndedAt: 2025-07-21 18:30:07 -0400 (Mon, 21 Jul 2025) EllapsedTime: 49.3 seconds RetCode: 0 Status: OK