Package: seahtrue Version: 1.2.0 Command: rm -rf seahtrue.buildbin-libdir && mkdir seahtrue.buildbin-libdir && /Users/biocbuild/BBS/utils/build-universal.sh seahtrue_1.2.0.tar.gz /Library/Frameworks/R.framework/Resources/bin/R seahtrue.buildbin-libdir StartedAt: 2025-04-21 22:51:57 -0400 (Mon, 21 Apr 2025) EndedAt: 2025-04-21 22:52:01 -0400 (Mon, 21 Apr 2025) EllapsedTime: 4.1 seconds RetCode: 0 Status: OK PackageFile: seahtrue_1.2.0.tgz PackageFileSize: 3.39 MiB