Package: scviR Version: 1.6.0 Command: /home/biocbuild/R/R/bin/R CMD INSTALL scviR StartedAt: 2025-01-30 21:00:27 -0000 (Thu, 30 Jan 2025) EndedAt: 2025-01-30 21:01:05 -0000 (Thu, 30 Jan 2025) EllapsedTime: 38.2 seconds RetCode: 0 Status: OK