Package: screenCounter Version: 1.6.0 Command: rm -rf screenCounter.buildbin-libdir && mkdir screenCounter.buildbin-libdir && F:\biocbuild\bbs-3.20-bioc\R\bin\R.exe CMD INSTALL --build --library=screenCounter.buildbin-libdir screenCounter_1.6.0.tar.gz StartedAt: 2025-01-03 09:16:25 -0500 (Fri, 03 Jan 2025) EndedAt: 2025-01-03 09:18:59 -0500 (Fri, 03 Jan 2025) EllapsedTime: 154.1 seconds RetCode: 0 Status: OK PackageFile: screenCounter_1.6.0.zip PackageFileSize: 866 KiB