Package: screenCounter Version: 1.8.0 Command: chmod a+r screenCounter -R && E:\biocbuild\bbs-3.21-bioc\R\bin\R.exe CMD build --keep-empty-dirs --no-resave-data screenCounter StartedAt: 2025-08-14 22:05:43 -0400 (Thu, 14 Aug 2025) EndedAt: 2025-08-14 22:08:22 -0400 (Thu, 14 Aug 2025) EllapsedTime: 159.2 seconds RetCode: 0 Status: OK PackageFile: screenCounter_1.8.0.tar.gz PackageFileSize: 292.8 KiB