Package: scran Version: 1.36.0 Command: rm -rf scran.buildbin-libdir && mkdir scran.buildbin-libdir && E:\biocbuild\bbs-3.21-bioc\R\bin\R.exe CMD INSTALL --build --library=scran.buildbin-libdir scran_1.36.0.tar.gz StartedAt: 2025-08-15 10:15:28 -0400 (Fri, 15 Aug 2025) EndedAt: 2025-08-15 10:17:59 -0400 (Fri, 15 Aug 2025) EllapsedTime: 151.7 seconds RetCode: 0 Status: OK PackageFile: scran_1.36.0.zip PackageFileSize: 1.793 MiB