Package: scran Version: 1.34.0 Command: rm -rf scran.buildbin-libdir && mkdir scran.buildbin-libdir && /Users/biocbuild/BBS/utils/build-universal.sh scran_1.34.0.tar.gz /Library/Frameworks/R.framework/Resources/bin/R scran.buildbin-libdir StartedAt: 2025-01-31 13:39:42 -0500 (Fri, 31 Jan 2025) EndedAt: 2025-01-31 13:42:20 -0500 (Fri, 31 Jan 2025) EllapsedTime: 158.1 seconds RetCode: 0 Status: OK PackageFile: scran_1.34.0.tgz PackageFileSize: 2.312 MiB