Package: scran Version: 1.36.0 Command: /Library/Frameworks/R.framework/Resources/bin/R CMD INSTALL scran StartedAt: 2025-04-21 15:28:23 -0400 (Mon, 21 Apr 2025) EndedAt: 2025-04-21 15:28:47 -0400 (Mon, 21 Apr 2025) EllapsedTime: 23.8 seconds RetCode: 0 Status: OK