Package: scran Version: 1.36.0 Command: /Library/Frameworks/R.framework/Resources/bin/R CMD build --keep-empty-dirs --no-resave-data scran StartedAt: 2025-05-06 08:06:35 -0400 (Tue, 06 May 2025) EndedAt: 2025-05-06 08:10:28 -0400 (Tue, 06 May 2025) EllapsedTime: 233.5 seconds RetCode: 0 Status: OK PackageFile: scran_1.36.0.tar.gz PackageFileSize: 1.858 MiB