Package: scp Version: 1.18.0 Command: rm -rf scp.buildbin-libdir && mkdir scp.buildbin-libdir && E:\biocbuild\bbs-3.21-bioc\R\bin\R.exe CMD INSTALL --build --library=scp.buildbin-libdir scp_1.18.0.tar.gz StartedAt: 2025-08-15 10:15:17 -0400 (Fri, 15 Aug 2025) EndedAt: 2025-08-15 10:16:17 -0400 (Fri, 15 Aug 2025) EllapsedTime: 59.3 seconds RetCode: 0 Status: OK PackageFile: scp_1.18.0.zip PackageFileSize: 4.988 MiB