Package: scp Version: 1.18.0 Command: rm -rf scp.buildbin-libdir && mkdir scp.buildbin-libdir && /Users/biocbuild/BBS/utils/build-universal.sh scp_1.18.0.tar.gz /Library/Frameworks/R.framework/Resources/bin/R scp.buildbin-libdir StartedAt: 2025-05-23 13:47:02 -0400 (Fri, 23 May 2025) EndedAt: 2025-05-23 13:49:27 -0400 (Fri, 23 May 2025) EllapsedTime: 144.5 seconds RetCode: 0 Status: OK PackageFile: scp_1.18.0.tgz PackageFileSize: 7.128 MiB