Package: scp Version: 1.18.0 Command: rm -rf scp.buildbin-libdir && mkdir scp.buildbin-libdir && /Users/biocbuild/BBS/utils/build-universal.sh scp_1.18.0.tar.gz /Library/Frameworks/R.framework/Resources/bin/R scp.buildbin-libdir StartedAt: 2025-04-22 01:07:54 -0400 (Tue, 22 Apr 2025) EndedAt: 2025-04-22 01:08:41 -0400 (Tue, 22 Apr 2025) EllapsedTime: 47.5 seconds RetCode: 0 Status: OK PackageFile: scp_1.18.0.tgz PackageFileSize: 7.134 MiB