Package: scp Version: 1.18.0 Command: /home/biocbuild/R/R/bin/R CMD INSTALL scp StartedAt: 2025-05-22 20:50:08 -0000 (Thu, 22 May 2025) EndedAt: 2025-05-22 20:50:51 -0000 (Thu, 22 May 2025) EllapsedTime: 43.1 seconds RetCode: 0 Status: OK