Package: scoup Version: 1.0.0 Command: /home/biocbuild/R/R/bin/R CMD build --keep-empty-dirs --no-resave-data scoup StartedAt: 2025-02-04 02:46:24 -0000 (Tue, 04 Feb 2025) EndedAt: 2025-02-04 02:46:58 -0000 (Tue, 04 Feb 2025) EllapsedTime: 34.1 seconds RetCode: 0 Status: OK PackageFile: scoup_1.0.0.tar.gz PackageFileSize: 402 KiB