Package: scoreInvHap Version: 1.30.0 Command: /Library/Frameworks/R.framework/Resources/bin/R CMD build --keep-empty-dirs --no-resave-data scoreInvHap StartedAt: 2025-04-21 18:21:40 -0400 (Mon, 21 Apr 2025) EndedAt: 2025-04-21 18:23:08 -0400 (Mon, 21 Apr 2025) EllapsedTime: 87.8 seconds RetCode: 0 Status: OK PackageFile: scoreInvHap_1.30.0.tar.gz PackageFileSize: 1.036 MiB