Package: scoreInvHap Version: 1.30.0 Command: /home/biocbuild/R/R/bin/R CMD check --install=check:scoreInvHap.install-out.txt --library=/home/biocbuild/R/R/site-library --no-vignettes --timings scoreInvHap_1.30.0.tar.gz StartedAt: 2025-04-22 13:36:12 -0000 (Tue, 22 Apr 2025) EndedAt: 2025-04-22 13:42:28 -0000 (Tue, 22 Apr 2025) EllapsedTime: 376.4 seconds RetCode: 0 Status: OK CheckDir: scoreInvHap.Rcheck Warnings: 0