Package: scoreInvHap Version: 1.30.0 Command: /Library/Frameworks/R.framework/Resources/bin/R CMD check --install=check:scoreInvHap.install-out.txt --library=/Library/Frameworks/R.framework/Resources/library --no-vignettes --timings scoreInvHap_1.30.0.tar.gz StartedAt: 2025-04-21 21:32:23 -0400 (Mon, 21 Apr 2025) EndedAt: 2025-04-21 21:34:17 -0400 (Mon, 21 Apr 2025) EllapsedTime: 114.3 seconds RetCode: 0 Status: OK CheckDir: scoreInvHap.Rcheck Warnings: 0